BEGIN:VCALENDAR
VERSION:2.0
PRODID:-//Travel + Wildlife + Sound Gigs - ECPv6.15.20//NONSGML v1.0//EN
CALSCALE:GREGORIAN
METHOD:PUBLISH
X-WR-CALNAME:Travel + Wildlife + Sound Gigs
X-ORIGINAL-URL:https://travelwildlifeandsound.com
X-WR-CALDESC:Events for Travel + Wildlife + Sound Gigs
REFRESH-INTERVAL;VALUE=DURATION:PT1H
X-Robots-Tag:noindex
X-PUBLISHED-TTL:PT1H
BEGIN:VTIMEZONE
TZID:America/New_York
BEGIN:DAYLIGHT
TZOFFSETFROM:-0500
TZOFFSETTO:-0400
TZNAME:EDT
DTSTART:20250309T070000
END:DAYLIGHT
BEGIN:STANDARD
TZOFFSETFROM:-0400
TZOFFSETTO:-0500
TZNAME:EST
DTSTART:20251102T060000
END:STANDARD
BEGIN:DAYLIGHT
TZOFFSETFROM:-0500
TZOFFSETTO:-0400
TZNAME:EDT
DTSTART:20260308T070000
END:DAYLIGHT
BEGIN:STANDARD
TZOFFSETFROM:-0400
TZOFFSETTO:-0500
TZNAME:EST
DTSTART:20261101T060000
END:STANDARD
BEGIN:DAYLIGHT
TZOFFSETFROM:-0500
TZOFFSETTO:-0400
TZNAME:EDT
DTSTART:20270314T070000
END:DAYLIGHT
BEGIN:STANDARD
TZOFFSETFROM:-0400
TZOFFSETTO:-0500
TZNAME:EST
DTSTART:20271107T060000
END:STANDARD
END:VTIMEZONE
BEGIN:VEVENT
DTSTART;TZID=America/New_York:20260314T183000
DTEND;TZID=America/New_York:20260314T220000
DTSTAMP:20260424T090011
CREATED:20260312T135142Z
LAST-MODIFIED:20260312T135142Z
UID:1837-1773513000-1773525600@travelwildlifeandsound.com
SUMMARY:Cam Wheaton at Kathi's Krab Shack
DESCRIPTION:Cam Wheaton performing at Kathi’s Krab Shack in Steinhatchee\, FL.
URL:https://travelwildlifeandsound.com/event/cam-wheaton-at-kathis-krab-shack/
LOCATION:Kathi’s Krab Shack\, 202 15th St E\, Steinhatchee\, FL\, 32359\, United States
CATEGORIES:Live Music
END:VEVENT
BEGIN:VEVENT
DTSTART;TZID=America/New_York:20260314T190000
DTEND;TZID=America/New_York:20260314T220000
DTSTAMP:20260424T090011
CREATED:20260218T174703Z
LAST-MODIFIED:20260225T162205Z
UID:1722-1773514800-1773525600@travelwildlifeandsound.com
SUMMARY:Brent Saunders at Spirit of Suwannee Music Hall
DESCRIPTION:Breant Saunders performing at Spirit of Suwannee Music Hall in Live Oak\, FL.
URL:https://travelwildlifeandsound.com/event/brent-saunders-at-spirit-of-suwannee-music-hall/
LOCATION:Spirit of the Suwannee – Music Hall\, 3076 95th Drive\, Live Oak\, FL\, 32060\, United States
CATEGORIES:Acoustic,Live Music
ATTACH;FMTTYPE=image/jpeg:https://travelwildlifeandsound.com/wp-content/uploads/2026/02/brett-saunders-live-spirit-of-the-suwannee-live-oak-fl.jpg.jpeg
END:VEVENT
BEGIN:VEVENT
DTSTART;TZID=America/New_York:20260314T193000
DTEND;TZID=America/New_York:20260314T223000
DTSTAMP:20260424T090011
CREATED:20260304T170051Z
LAST-MODIFIED:20260310T133439Z
UID:1785-1773516600-1773527400@travelwildlifeandsound.com
SUMMARY:Unfazzed Band at Cooper's Hideout
DESCRIPTION:Unfazzed Band performing at Cooper’s Hideout in Lake City\, FL.
URL:https://travelwildlifeandsound.com/event/unfazzed-band-at-coopers-hideout/
LOCATION:Cooper’s Hideout\, 2102 SE Baya Dr\, Lake City\, FL\, 32025\, United States
CATEGORIES:Live Music,Rock
ATTACH;FMTTYPE=image/jpeg:https://travelwildlifeandsound.com/wp-content/uploads/2026/03/unfazzed-band-coopers-hideout-live-music-lake-city-florida.jpg
ORGANIZER;CN="Unfazzed (River Rats)":MAILTO:riverrats365@gmail.com
END:VEVENT
END:VCALENDAR