BEGIN:VCALENDAR
VERSION:2.0
PRODID:-//Travel + Wildlife + Sound Gigs - ECPv6.15.20//NONSGML v1.0//EN
CALSCALE:GREGORIAN
METHOD:PUBLISH
X-ORIGINAL-URL:https://travelwildlifeandsound.com
X-WR-CALDESC:Events for Travel + Wildlife + Sound Gigs
REFRESH-INTERVAL;VALUE=DURATION:PT1H
X-Robots-Tag:noindex
X-PUBLISHED-TTL:PT1H
BEGIN:VTIMEZONE
TZID:America/New_York
BEGIN:DAYLIGHT
TZOFFSETFROM:-0500
TZOFFSETTO:-0400
TZNAME:EDT
DTSTART:20250309T070000
END:DAYLIGHT
BEGIN:STANDARD
TZOFFSETFROM:-0400
TZOFFSETTO:-0500
TZNAME:EST
DTSTART:20251102T060000
END:STANDARD
BEGIN:DAYLIGHT
TZOFFSETFROM:-0500
TZOFFSETTO:-0400
TZNAME:EDT
DTSTART:20260308T070000
END:DAYLIGHT
BEGIN:STANDARD
TZOFFSETFROM:-0400
TZOFFSETTO:-0500
TZNAME:EST
DTSTART:20261101T060000
END:STANDARD
BEGIN:DAYLIGHT
TZOFFSETFROM:-0500
TZOFFSETTO:-0400
TZNAME:EDT
DTSTART:20270314T070000
END:DAYLIGHT
BEGIN:STANDARD
TZOFFSETFROM:-0400
TZOFFSETTO:-0500
TZNAME:EST
DTSTART:20271107T060000
END:STANDARD
END:VTIMEZONE
BEGIN:VEVENT
DTSTART;TZID=America/New_York:20260130T183000
DTEND;TZID=America/New_York:20260130T213000
DTSTAMP:20260421T034024
CREATED:20260123T190522Z
LAST-MODIFIED:20260126T195134Z
UID:1373-1769797800-1769808600@travelwildlifeandsound.com
SUMMARY:Steven Knotts at The Tavern
DESCRIPTION:Live music featuring Steven Knotts at the Tavern in Lake City\, Florida.
URL:https://travelwildlifeandsound.com/event/steven-knotts-at-the-tavern/
LOCATION:The Tavern Ribs & Rolls\, 2888 SW Main Blvd\, Lake City\, FL\, 32025\, United States
CATEGORIES:Country
END:VEVENT
BEGIN:VEVENT
DTSTART;TZID=America/New_York:20260130T190000
DTEND;TZID=America/New_York:20260130T220000
DTSTAMP:20260421T034024
CREATED:20260129T211016Z
LAST-MODIFIED:20260129T211016Z
UID:1515-1769799600-1769810400@travelwildlifeandsound.com
SUMMARY:Houston Keen at Halpatter Brewing Company
DESCRIPTION:Live music from Houston Keen at Halpatter Brewing Company in Lake City\, FL.
URL:https://travelwildlifeandsound.com/event/houston-keen-at-halpatter-brewing-company/
LOCATION:Halpatter Brewing\, 264 Northeast Hernando Avenue\, Lake City\, 32055\, United States
CATEGORIES:Country
END:VEVENT
BEGIN:VEVENT
DTSTART;TZID=America/New_York:20260130T210000
DTEND;TZID=America/New_York:20260131T010000
DTSTAMP:20260421T034024
CREATED:20260123T190804Z
LAST-MODIFIED:20260126T194957Z
UID:1378-1769806800-1769821200@travelwildlifeandsound.com
SUMMARY:Cold Shot Band at Mothers Pub and Grill
DESCRIPTION:Live music featuring Cold Shot Band at Mothers Pub and Grill in Gainesville\, Florida.
URL:https://travelwildlifeandsound.com/event/cold-shot-band-at-mothers-pub-and-grill/
LOCATION:Mother’s Pub\, 5109 NW 39th Ave\, Gainesville\, FL\, United States
CATEGORIES:Country,Rock
END:VEVENT
END:VCALENDAR