BEGIN:VCALENDAR
VERSION:2.0
PRODID:-//Travel + Wildlife + Sound Gigs - ECPv6.15.20//NONSGML v1.0//EN
CALSCALE:GREGORIAN
METHOD:PUBLISH
X-WR-CALNAME:Travel + Wildlife + Sound Gigs
X-ORIGINAL-URL:https://travelwildlifeandsound.com
X-WR-CALDESC:Events for Travel + Wildlife + Sound Gigs
REFRESH-INTERVAL;VALUE=DURATION:PT1H
X-Robots-Tag:noindex
X-PUBLISHED-TTL:PT1H
BEGIN:VTIMEZONE
TZID:America/New_York
BEGIN:DAYLIGHT
TZOFFSETFROM:-0500
TZOFFSETTO:-0400
TZNAME:EDT
DTSTART:20250309T070000
END:DAYLIGHT
BEGIN:STANDARD
TZOFFSETFROM:-0400
TZOFFSETTO:-0500
TZNAME:EST
DTSTART:20251102T060000
END:STANDARD
BEGIN:DAYLIGHT
TZOFFSETFROM:-0500
TZOFFSETTO:-0400
TZNAME:EDT
DTSTART:20260308T070000
END:DAYLIGHT
BEGIN:STANDARD
TZOFFSETFROM:-0400
TZOFFSETTO:-0500
TZNAME:EST
DTSTART:20261101T060000
END:STANDARD
BEGIN:DAYLIGHT
TZOFFSETFROM:-0500
TZOFFSETTO:-0400
TZNAME:EDT
DTSTART:20270314T070000
END:DAYLIGHT
BEGIN:STANDARD
TZOFFSETFROM:-0400
TZOFFSETTO:-0500
TZNAME:EST
DTSTART:20271107T060000
END:STANDARD
END:VTIMEZONE
BEGIN:VEVENT
DTSTART;TZID=America/New_York:20260227T183000
DTEND;TZID=America/New_York:20260227T220000
DTSTAMP:20260419T091717
CREATED:20260224T154452Z
LAST-MODIFIED:20260225T165906Z
UID:1732-1772217000-1772229600@travelwildlifeandsound.com
SUMMARY:Emma Laine at Kathi's Krab Shack
DESCRIPTION:Emma Laine performing at Kathi’s Krab Shack in Steinhatchee\, FL.
URL:https://travelwildlifeandsound.com/event/emma-laine-at-kathis-krab-shack-2/
LOCATION:Kathi’s Krab Shack\, 202 15th St E\, Steinhatchee\, FL\, 32359\, United States
CATEGORIES:Country,Live Music
ATTACH;FMTTYPE=image/jpeg:https://travelwildlifeandsound.com/wp-content/uploads/2026/02/kathis-krab-shack-live-music-steinhatchee-fl.jpg
ORGANIZER;CN="Emma Laine":MAILTO:emmalainemusic@gmail.com
END:VEVENT
END:VCALENDAR