BEGIN:VCALENDAR
VERSION:2.0
PRODID:-//Travel + Wildlife + Sound Gigs - ECPv6.15.20//NONSGML v1.0//EN
CALSCALE:GREGORIAN
METHOD:PUBLISH
X-WR-CALNAME:Travel + Wildlife + Sound Gigs
X-ORIGINAL-URL:https://travelwildlifeandsound.com
X-WR-CALDESC:Events for Travel + Wildlife + Sound Gigs
REFRESH-INTERVAL;VALUE=DURATION:PT1H
X-Robots-Tag:noindex
X-PUBLISHED-TTL:PT1H
BEGIN:VTIMEZONE
TZID:America/New_York
BEGIN:DAYLIGHT
TZOFFSETFROM:-0500
TZOFFSETTO:-0400
TZNAME:EDT
DTSTART:20250309T070000
END:DAYLIGHT
BEGIN:STANDARD
TZOFFSETFROM:-0400
TZOFFSETTO:-0500
TZNAME:EST
DTSTART:20251102T060000
END:STANDARD
BEGIN:DAYLIGHT
TZOFFSETFROM:-0500
TZOFFSETTO:-0400
TZNAME:EDT
DTSTART:20260308T070000
END:DAYLIGHT
BEGIN:STANDARD
TZOFFSETFROM:-0400
TZOFFSETTO:-0500
TZNAME:EST
DTSTART:20261101T060000
END:STANDARD
BEGIN:DAYLIGHT
TZOFFSETFROM:-0500
TZOFFSETTO:-0400
TZNAME:EDT
DTSTART:20270314T070000
END:DAYLIGHT
BEGIN:STANDARD
TZOFFSETFROM:-0400
TZOFFSETTO:-0500
TZNAME:EST
DTSTART:20271107T060000
END:STANDARD
END:VTIMEZONE
BEGIN:VEVENT
DTSTART;TZID=America/New_York:20260425T190000
DTEND;TZID=America/New_York:20260425T230000
DTSTAMP:20260420T042408
CREATED:20260401T205424Z
LAST-MODIFIED:20260401T205424Z
UID:2031-1777143600-1777158000@travelwildlifeandsound.com
SUMMARY:Shawn Manley at High Springs Brewing
DESCRIPTION:Shawn Manley at High Springs Brewing in High Springs\, FL.
URL:https://travelwildlifeandsound.com/event/shawn-manley-at-high-springs-brewing/
LOCATION:High Springs Brewing Company\, 18562 nw 237th St\, High Springs\, High Springs\, 32643\, United States
CATEGORIES:Live Music
END:VEVENT
BEGIN:VEVENT
DTSTART;TZID=America/New_York:20260425T193000
DTEND;TZID=America/New_York:20260425T223000
DTSTAMP:20260420T042408
CREATED:20260331T190319Z
LAST-MODIFIED:20260331T190319Z
UID:2011-1777145400-1777156200@travelwildlifeandsound.com
SUMMARY:Steel Kickin at Cooper's Hideout
DESCRIPTION:Steel Kickin at Cooper’s Hideout in Lake City\, FL.
URL:https://travelwildlifeandsound.com/event/steel-kickin-at-coopers-hideout/
LOCATION:Cooper’s Hideout\, 2102 SE Baya Dr\, Lake City\, FL\, 32025\, United States
CATEGORIES:Live Music
END:VEVENT
BEGIN:VEVENT
DTSTART;TZID=America/New_York:20260425T200000
DTEND;TZID=America/New_York:20260425T230000
DTSTAMP:20260420T042408
CREATED:20260330T183814Z
LAST-MODIFIED:20260330T192814Z
UID:1895-1777147200-1777158000@travelwildlifeandsound.com
SUMMARY:Unfazzed Band at Spirit of Suwannee
DESCRIPTION:Unfazzed Band performing at Spirit of Suwannee in Live Oak\, FL.
URL:https://travelwildlifeandsound.com/event/unfazzed-band-at-spirit-of-suwannee/
LOCATION:Spirit of the Suwannee – Music Hall\, 3076 95th Drive\, Live Oak\, FL\, 32060\, United States
CATEGORIES:Country,Live Music,Rock
ATTACH;FMTTYPE=image/jpeg:https://travelwildlifeandsound.com/wp-content/uploads/2026/03/Unfazzed-Band.jpg
ORGANIZER;CN="Unfazzed (River Rats)":MAILTO:riverrats365@gmail.com
END:VEVENT
BEGIN:VEVENT
DTSTART;TZID=America/New_York:20260425T210000
DTEND;TZID=America/New_York:20260425T233000
DTSTAMP:20260420T042408
CREATED:20260331T153217Z
LAST-MODIFIED:20260331T153217Z
UID:1987-1777150800-1777159800@travelwildlifeandsound.com
SUMMARY:Faster Than Flash at Mother's
DESCRIPTION:Faster Than Flash at Mother’s in Gainesville\, FL.
URL:https://travelwildlifeandsound.com/event/faster-than-flash-at-mothers/
LOCATION:Mother’s Pub\, 5109 NW 39th Ave\, Gainesville\, FL\, United States
CATEGORIES:Live Music
ATTACH;FMTTYPE=image/jpeg:https://travelwildlifeandsound.com/wp-content/uploads/2026/03/faster-than-flash-1.jpg
END:VEVENT
BEGIN:VEVENT
DTSTART;TZID=America/New_York:20260426T130000
DTEND;TZID=America/New_York:20260426T160000
DTSTAMP:20260420T042408
CREATED:20260331T190730Z
LAST-MODIFIED:20260331T190730Z
UID:2017-1777208400-1777219200@travelwildlifeandsound.com
SUMMARY:Zac Petty at Cooper's Hideout
DESCRIPTION:Zac Petty at Cooper’s Hideout in Lake City\, FL.
URL:https://travelwildlifeandsound.com/event/zac-petty-at-coopers-hideout-3/
LOCATION:Cooper’s Hideout\, 2102 SE Baya Dr\, Lake City\, FL\, 32025\, United States
CATEGORIES:Live Music
ATTACH;FMTTYPE=image/jpeg:https://travelwildlifeandsound.com/wp-content/uploads/2025/12/Zac-Petty.jpg
END:VEVENT
BEGIN:VEVENT
DTSTART;TZID=America/New_York:20260430T180000
DTEND;TZID=America/New_York:20260430T210000
DTSTAMP:20260420T042408
CREATED:20260330T185034Z
LAST-MODIFIED:20260330T185034Z
UID:1912-1777572000-1777582800@travelwildlifeandsound.com
SUMMARY:Madi Bost at Marion Street
DESCRIPTION:Madi Bost at Marion Street in Lake City\, FL.
URL:https://travelwildlifeandsound.com/event/madi-bost-at-marion-street/
LOCATION:Marion Street Bistro\, 281 N Marion Ave\, Lake City\, FL\, 32055\, United States
CATEGORIES:Live Music
END:VEVENT
BEGIN:VEVENT
DTSTART;TZID=America/New_York:20260501T190000
DTEND;TZID=America/New_York:20260501T220000
DTSTAMP:20260420T042408
CREATED:20260414T142023Z
LAST-MODIFIED:20260414T142023Z
UID:2105-1777662000-1777672800@travelwildlifeandsound.com
SUMMARY:Kian Sanchez at Spirit of Suwannee
DESCRIPTION:Kian Sanchez at Spirit of Suwannee in Live Oak\, FL.
URL:https://travelwildlifeandsound.com/event/kian-sanchez-at-spirit-of-suwannee-2/
LOCATION:Spirit of the Suwannee – Music Hall\, 3076 95th Drive\, Live Oak\, FL\, 32060\, United States
CATEGORIES:Live Music
END:VEVENT
BEGIN:VEVENT
DTSTART;TZID=America/New_York:20260501T190000
DTEND;TZID=America/New_York:20260501T220000
DTSTAMP:20260420T042408
CREATED:20260414T143254Z
LAST-MODIFIED:20260414T143254Z
UID:2117-1777662000-1777672800@travelwildlifeandsound.com
SUMMARY:Zac Petty at The Woods
DESCRIPTION:Zac Petty at The Woods in Lake City\, FL.
URL:https://travelwildlifeandsound.com/event/zac-petty-at-the-woods-2/
LOCATION:The Woods\, 149 SW Woolsey Glen\, Lake City\, FL\, 32024\, United States
CATEGORIES:Live Music
END:VEVENT
BEGIN:VEVENT
DTSTART;TZID=America/New_York:20260501T190000
DTEND;TZID=America/New_York:20260501T220000
DTSTAMP:20260420T042408
CREATED:20260415T130940Z
LAST-MODIFIED:20260415T130940Z
UID:2133-1777662000-1777672800@travelwildlifeandsound.com
SUMMARY:Good Vibes Band at Cooper's Hideout
DESCRIPTION:Good Vibes Band at Cooper’s Hideout in Lake City\, FL.
URL:https://travelwildlifeandsound.com/event/good-vibes-band-at-coopers-hideout/
LOCATION:Cooper’s Hideout\, 2102 SE Baya Dr\, Lake City\, FL\, 32025\, United States
CATEGORIES:Country,Live Music,Rock
ATTACH;FMTTYPE=image/jpeg:https://travelwildlifeandsound.com/wp-content/uploads/2026/01/Good-Vibes-Band.jpg
END:VEVENT
BEGIN:VEVENT
DTSTART;TZID=America/New_York:20260502T190000
DTEND;TZID=America/New_York:20260502T220000
DTSTAMP:20260420T042408
CREATED:20260414T143515Z
LAST-MODIFIED:20260414T143515Z
UID:2120-1777748400-1777759200@travelwildlifeandsound.com
SUMMARY:Zac Petty with Shawn Manley at The Tarven
DESCRIPTION:Zac Petty with Shawn Manley at The Tavern in Lake City\, FL.
URL:https://travelwildlifeandsound.com/event/zac-petty-at-the-tarven/
LOCATION:The Tavern Ribs & Rolls\, 2888 SW Main Blvd\, Lake City\, FL\, 32025\, United States
CATEGORIES:Live Music
END:VEVENT
BEGIN:VEVENT
DTSTART;TZID=America/New_York:20260502T200000
DTEND;TZID=America/New_York:20260502T230000
DTSTAMP:20260420T042408
CREATED:20260414T142447Z
LAST-MODIFIED:20260414T142447Z
UID:2108-1777752000-1777762800@travelwildlifeandsound.com
SUMMARY:The WyLDe and WaACKY Roy Mike Mullis Entertainment Project at Spirit of Suwannee
DESCRIPTION:The WyLDe and WaACKY Roy Mike Mullis Entertainment Project at Spirit of Suwannee in Live Oak\, FL.
URL:https://travelwildlifeandsound.com/event/the-wylde-and-waacky-roy-mike-mullis-entertainment-project-at-spirit-of-suwannee/
LOCATION:Spirit of the Suwannee – Music Hall\, 3076 95th Drive\, Live Oak\, FL\, 32060\, United States
ATTACH;FMTTYPE=image/png:https://travelwildlifeandsound.com/wp-content/uploads/2026/04/Roy-Mike-Mullis-Band-scaled.png
END:VEVENT
BEGIN:VEVENT
DTSTART;TZID=America/New_York:20260508T180000
DTEND;TZID=America/New_York:20260508T210000
DTSTAMP:20260420T042408
CREATED:20260414T143616Z
LAST-MODIFIED:20260414T143616Z
UID:2124-1778263200-1778274000@travelwildlifeandsound.com
SUMMARY:Zac Petty at The Great Outdoors
DESCRIPTION:Zac Petty at The Great Outdoors in High Springs\, FL.
URL:https://travelwildlifeandsound.com/event/zac-petty-at-the-great-outdoors-2/
LOCATION:The Great Outdoors Restaurant\, 18587 High Springs Main S\, High Springs\, FL\, 32643\, United States
CATEGORIES:Live Music
END:VEVENT
BEGIN:VEVENT
DTSTART;TZID=America/New_York:20260514T200000
DTEND;TZID=America/New_York:20260514T220000
DTSTAMP:20260420T042408
CREATED:20260414T143735Z
LAST-MODIFIED:20260414T143735Z
UID:2127-1778788800-1778796000@travelwildlifeandsound.com
SUMMARY:Zac Petty at The Tarven
DESCRIPTION:Zac Petty at The Traven in Lake City\, FL.
URL:https://travelwildlifeandsound.com/event/zac-petty-at-the-tarven-2/
LOCATION:The Tavern Ribs & Rolls\, 2888 SW Main Blvd\, Lake City\, FL\, 32025\, United States
CATEGORIES:Live Music
END:VEVENT
BEGIN:VEVENT
DTSTART;VALUE=DATE:20260516
DTEND;VALUE=DATE:20260517
DTSTAMP:20260420T042408
CREATED:20260330T191938Z
LAST-MODIFIED:20260330T191938Z
UID:1948-1778889600-1778975999@travelwildlifeandsound.com
SUMMARY:AJ Wilkerson at Columbia County Cycles
DESCRIPTION:AJ Wilkerson performing at Columbia County Cycles in Lake City\, FL. with Bike Ride.
URL:https://travelwildlifeandsound.com/event/aj-wilkerson-at-columbia-county-cycles/
LOCATION:FL
CATEGORIES:Live Music
ATTACH;FMTTYPE=image/jpeg:https://travelwildlifeandsound.com/wp-content/uploads/2026/03/Benefit-in-Lake-City-FL.jpg
END:VEVENT
BEGIN:VEVENT
DTSTART;TZID=America/New_York:20260522T200000
DTEND;TZID=America/New_York:20260522T230000
DTSTAMP:20260420T042408
CREATED:20260414T142807Z
LAST-MODIFIED:20260414T142807Z
UID:2111-1779480000-1779490800@travelwildlifeandsound.com
SUMMARY:Faster Than Flash at Spirit of Suwannee
DESCRIPTION:Faster Than Flash Band at Spirit of Suwannee in Live Oak\, FL.
URL:https://travelwildlifeandsound.com/event/faster-than-flash-at-spirit-of-suwannee/
LOCATION:Spirit of the Suwannee – Music Hall\, 3076 95th Drive\, Live Oak\, FL\, 32060\, United States
CATEGORIES:Live Music,Rock
END:VEVENT
BEGIN:VEVENT
DTSTART;TZID=America/New_York:20260523T200000
DTEND;TZID=America/New_York:20260523T230000
DTSTAMP:20260420T042408
CREATED:20260414T143116Z
LAST-MODIFIED:20260414T143116Z
UID:2114-1779566400-1779577200@travelwildlifeandsound.com
SUMMARY:Naturally Southern Band at Spirit of Suwannee
DESCRIPTION:Naturally Southern Band at Spirit of Suwannee in Live Oak\, FL.
URL:https://travelwildlifeandsound.com/event/naturally-southern-band-at-spirit-of-suwannee/
LOCATION:Spirit of the Suwannee – Music Hall\, 3076 95th Drive\, Live Oak\, FL\, 32060\, United States
CATEGORIES:Country,Live Music
ATTACH;FMTTYPE=image/jpeg:https://travelwildlifeandsound.com/wp-content/uploads/2026/04/Naturally-Southern-2026.jpg
END:VEVENT
END:VCALENDAR